Workbook

Sheet 2026 Final CBI Grant Report
C2: DEP Invasive Cost Share Grant
C3: CBI Final Report Form – Due Friday, November 6, 2026
A5: Date:
A6: Sponsoring Organization:
A7: Contact Name:
A8: Phone Number:
A9: Email Address(es):
A12: Table 1. Inspections per Lake & Launch
A13: Lake Name (use the drop-down menu to choose your lake) | B13: Launch or Site Name (please list each site in a separate row - use the drop down menu, organized by lake name first) | C13: Direct/Competitive Grant (D or C in the drop-down menu) | D13: Total Number of Boat Inspections per launch site | E13: Number of Inspections where fragments found | F13: Number of Confirmed Invasive Plants (must be confirmed by DEP or LSM) | G13: Total Volunteer Inspection Hours | H13: Total Paid Staff Inspection Hours
A29: Write in any Lakes or Sites that are not in the menus in the lines below
A35: TOTALS for the YEAR | D35: =SUM(D14:D34) -> 0 | E35: =SUM(E14:E34) -> 0 | F35: =SUM(F14:F34) -> 0 | G35: =SUM(G14:G34) -> 0 | H35: =SUM(H14:H34) -> 0
A38: Table 2. Actual Cash Expenses: List paid staff hours, rate, and total costs by category (e.g. inspector, coordinator). Staff with identical duties and hourly rate should be grouped together. List ALL cash expended for your total project whether from the DEP grant or other sources (e.g., cash match). Describe any expenses listed under "other" and group if similar.
B39: Column A | C39: Column B | D39: Column C | E39: Column D | F39: Column E
A40: Expenses (e.g. inspector, coordinator, other goods and services). | B40: Total # hours or miles driven (Inspector hours come from Table 1) | C40: Hourly Rate | D40: Total Costs | E40: Grant $ (Total Costs Covered by Grant) | F40: Cash Match: Columns C - D = Cash Match
A41: Inspectors at hourly rate 1 | D41: =B41*C41 -> 0 | F41: =D41-E41 -> 0
A42: Inspectors at hourly rate 2 | D42: =B42*C42 -> 0 | F42: =D42-E42 -> 0
A43: Inspectors at hourly rate 3 | D43: =B43*C43 -> 0 | F43: =D43-E43 -> 0
A44: Inspectors at hourly rate 4 | D44: =B44*C44 -> 0 | F44: =D44-E44 -> 0
A45: Coordinator | D45: =B45*C45 -> 0 | F45: =D45-E45 -> 0
A46: Mileage @ .56/mile | C46: 0.56 | D46: =B46*C46 -> 0 | F46: =D46-E46 -> 0
A47: Payroll costs | B47: ………. | C47: ………. | F47: =D47-E47 -> 0
A48: Supplies | B48: ………. | C48: ………. | F48: =D48-E48 -> 0
A49: Other (postage, copying, etc. - please list here): | D49: =B49*C49 -> 0 | F49: =D49-E49 -> 0
A50: TOTAL CASH EXPENSES for the YEAR | D50: =SUM(D41:D49) -> 0 | E50: =SUM(E41:E49) -> 0 | F50: =SUM(F41:F49) -> 0
A53: Table 3. Volunteer Hours: List number of volunteers and volunteer hours by category (e.g., inspector, coordinator, etc.). Describe any additional volunteer duties listed under "other", and group if similar.
A54: Volunteer Duties (e.g. inspectors, coordinator, etc.) | B54: Number of Volunteers | C54: Number of Hours (Volunteer Inspector hours autofill from Table 1)
A55: Inspector(s) | C55: =G35 -> 0
A56: Coordinator(s)
A57: Other (describe):
A58: TOTAL VOLUNTEER HOURS for the YEAR | C58: =C55+C56+C57 -> 0
A61: Table 4. Match Breakdown: This table accounts for all non-grant related spending and donations used for Match (e.g., Non-grant Cash Match from Table 2; Value of Volunteer Hours (donated labor) from Table 3; and Donations of Goods and Services). None of this is from grant funds.
B62: Column A | C62: Column B | D62: Column C | E62: Column D | F62: Column E
A63: Match Description: For example: staff, mailings, or goods and services either donated or paid for with NON-GRANT money | B63: Match Source i.e. Who provided your match (Town, Lake Association, Private donor, other) | C63: Cash Match From Table 2, Column E | D63: Volunteer Match = Total hours for each category in Table 3 at $32.99 per hour | E63: Monetary Value of Non-cash Donations (i.e. goods & services) | F63: Total Match Amount: Sum of Columns B, C, D, shaded cells
A64: Inspector (s) | C64: =SUM(F41:F44) -> 0 | D64: =C55*32.99 -> 0
A65: Coordinator (s) | C65: =F45 -> 0 | D65: =C56*32.99 -> 0
A66: Payroll | C66: =F47 -> 0
A67: Sums of "Other" from Tables 2 and 3 (mileage, postage, supplies, etc., other volunteer estimates) | C67: =SUM(F48:F49) -> 0 | D67: =C57*32.99 -> 0
A68: Other if different from Table 2:
A69: TOTAL MATCH AMOUNT for the YEAR | C69: =SUM(C64:C68) -> 0 | D69: =SUM(D64:D68) -> 0 | E69: =SUM(E66:E68) -> 0 | F69: =SUM(C69:E69) -> 0
A72: Table 5. Project Grant Payment Summary: Manually enter amounts in first three columns
...

Sheet MINING SHEET
A1: Date | B1: ='2026 Final CBI Grant Report'!B5 -> 0
A2: Sponsoring_Organization | B2: ='2026 Final CBI Grant Report'!B6 -> 0
A3: Contact_Name | B3: ='2026 Final CBI Grant Report'!B7 -> 0
A4: Phone_Number | B4: ='2026 Final CBI Grant Report'!B8 -> 0
A5: Email_Address(es) | B5: ='2026 Final CBI Grant Report'!B9 -> 0
A6: Lake_Name_1 | B6: ='2026 Final CBI Grant Report'!A14 -> 0
A7: Site_1 | B7: ='2026 Final CBI Grant Report'!B14 -> 0
A8: Grant_Type_1 | B8: ='2026 Final CBI Grant Report'!C14 -> 0
A9: INSP_1 | B9: ='2026 Final CBI Grant Report'!D14 -> 0
A10: PLANTS_1 | B10: ='2026 Final CBI Grant Report'!E14 -> 0
A11: INV_1 | B11: ='2026 Final CBI Grant Report'!F14 -> 0
A12: VOL_HRS_1 | B12: ='2026 Final CBI Grant Report'!G14 -> 0
A13: PAID_HRS_1 | B13: ='2026 Final CBI Grant Report'!H14 -> 0
A14: Lake_Name_2 | B14: ='2026 Final CBI Grant Report'!A15 -> 0
A15: Site_2 | B15: ='2026 Final CBI Grant Report'!B15 -> 0
A16: Grant_Type_2 | B16: ='2026 Final CBI Grant Report'!C15 -> 0
A17: INSP_2 | B17: ='2026 Final CBI Grant Report'!D15 -> 0
A18: PLANTS_2 | B18: ='2026 Final CBI Grant Report'!E15 -> 0
A19: INV_2 | B19: ='2026 Final CBI Grant Report'!F15 -> 0
A20: VOL_HRS_2 | B20: ='2026 Final CBI Grant Report'!G15 -> 0
A21: PAID_HRS_2 | B21: ='2026 Final CBI Grant Report'!H15 -> 0
A22: Lake_Name_3 | B22: ='2026 Final CBI Grant Report'!A16 -> 0
A23: Site_3 | B23: ='2026 Final CBI Grant Report'!B16 -> 0
A24: Grant_Type_3 | B24: ='2026 Final CBI Grant Report'!C16 -> 0
A25: INSP_3 | B25: ='2026 Final CBI Grant Report'!D16 -> 0
A26: PLANTS_3 | B26: ='2026 Final CBI Grant Report'!E16 -> 0
A27: INV_3 | B27: ='2026 Final CBI Grant Report'!F16 -> 0
A28: VOL_HRS_3 | B28: ='2026 Final CBI Grant Report'!G16 -> 0
A29: PAID_HRS_3 | B29: ='2026 Final CBI Grant Report'!H16 -> 0
A30: Lake_Name_4 | B30: ='2026 Final CBI Grant Report'!A17 -> 0
A31: Site_4 | B31: ='2026 Final CBI Grant Report'!B17 -> 0
A32: Grant_Type_4 | B32: ='2026 Final CBI Grant Report'!C17 -> 0
A33: INSP_4 | B33: ='2026 Final CBI Grant Report'!D17 -> 0
A34: PLANTS_4 | B34: ='2026 Final CBI Grant Report'!E17 -> 0
A35: INV_4 | B35: ='2026 Final CBI Grant Report'!F17 -> 0
A36: VOL_HRS_4 | B36: ='2026 Final CBI Grant Report'!G17 -> 0
A37: PAID_HRS_4 | B37: ='2026 Final CBI Grant Report'!H17 -> 0
A38: Lake_Name_5 | B38: ='2026 Final CBI Grant Report'!A18 -> 0
A39: Site_5 | B39: ='2026 Final CBI Grant Report'!B18 -> 0
A40: Grant_Type_5 | B40: ='2026 Final CBI Grant Report'!C18 -> 0
...

Sheet Ref
A2: 30 Mile River Watershed Association | C2: Adams Pond | E2: Adams Pond | F2: Adams Pond - Rock Haven Boat Ramp | H2: D
A3: 7 Lakes Alliance | C3: Alamoosook Lake | E3: Alamoosook Lake | F3: Alamoosook Lake - Hatchery Road | H3: C
A4: Alamoosook Lake Association (ALA) | C4: Alford Lake | E4: Alford Lake | F4: Alford Lake - Beaver Lodge Ramp
A5: Alford Lake-Lermond Pond Association (ALLPA) | C5: Androscoggin Lake | E5: Androscoggin Lake | F5: Androscoggin Lake - Rt 133 Androscoggin Lake Wayne
A6: Balch Lake Improvement Committee (BLIMP) | C6: Annabessacook Lake | E6: Annabessacook Lake | F6: Annabessacook Lake - Holmes Road Annabessacook
A7: Cathance Lake Association (CLA) | C7: Auburn Lake | E7: Auburn Lake | F7: Auburn Lake - Public Ramp Rt 4 Auburn
A8: China Region Lakes Alliance (CRLA) | C8: Balch & Stump Ponds | E8: Balch & Stump Ponds | F8: Balch & Stump Ponds - Balch Lake Marina
A9: Citizens Association of Liberty Lakes (CALL) | C9: Biscay Pond | E9: Biscay Pond | F9: Biscay Pond - Biscay Beach Ramp
A10: City of Ellsworth | C10: Branch Lake | E10: Branch Lake | F10: Branch Lake - Branch Lake State Ramp
A11: Clary Lake Association | C11: Cathance Lake | E11: Cathance Lake | F11: Cathance Lake - Cathance Boat Launch
A12: Clearwater Lake Improvement Association (CLIA) | C12: China Lake | E12: China Lake | F12: China Lake - East Vassalboro Ramp
A13: Coastal Rivers Conservation Trust (CRRT) | C13: Clary Lake | E13: China Lake | F13: China Lake - Head of the Lake
A14: Craig Pond Association (CPA) | C14: Clearwater Lake | E14: China Lake | F14: China Lake - South China, Rt 3
A15: Echo Lake Association (ELA) | C15: Cobbosseecontee Lake | E15: Clary Lake | F15: Clary Lake - N Clary Rd Ramp
... A66: Woods Pond Association (WPA) | C66: Pushaw Lake | E66: Moose Pond | F66: Moose Pond - Denmark Ramp Moose Pd
C67: Rangeley Lake | E67: Moose Pond | F67: Moose Pond - Rt 302 Moose Pd
C68: Richardson Lakes | E68: Moosehead Lake | F68: Moosehead Lake - Greenville Junction Wharf
C69: Sabbathday Lake | E69: Moosehead Lake | F69: Moosehead Lake - Indian Hill Trading Post
C70: Salmon Pond | E70: Moosehead Lake | F70: Moosehead Lake - Lily Bay State Park Boat Ramp
C71: Sebago Lake | E71: Mooselookmeguntic Lake | F71: Mooselookmeguntic Lake - Haines Landing
C72: Sheepscot Pond | E72: Mooselookmeguntic Lake | F72: Mooselookmeguntic Lake - Upper Dam Road
C73: Silver Lake | E73: Nickerson Lake | F73: Nickerson Lake - Nickerson Public Boat Ramp
C74: St George Lake | E74: North Pond | F74: North Pond - North Shore Road
C75: Swan Lake | E75: Norton Pond | F75: Norton Pond - Breezemere Park
C76: Thomas Pond | E76: Panther Pond | F76: Panther Pond - Panther Run Mill St
C77: Thompson Lake | E77: Parker Pond | F77: Parker Pond - Parker Pond Boat Launch
C78: Threemile Pond | E78: Parker Pond | F78: Parker Pond - Tower Road Parker Pond
... C90: Worthley Pond | E90: Pushaw Lake | F90: Pushaw Lake - Lakeside Landing
E91: Rangeley Lake | F91: Rangeley Lake - Carry Rd Oquossoc
E92: Rangeley Lake | F92: Rangeley Lake - State Park Rangeley Lake
E93: Rangeley Lake | F93: Rangeley Lake - Town Park
E94: Richardson Lakes | F94: Richardson Lakes - Mill Brook
E95: Sabbathday Lake | F95: Sabbathday Lake - Outlet Beach Boat Ramp
E96: Salmon Pond | F96: Salmon Pond - Spaulding Pt Rd
E97: Salmon Pond | F97: Salmon Pond - Whisperwood Lodge
E98: Sebago Lake | F98: Sebago Lake - Marina Road
E99: Sebago Lake | F99: Sebago Lake - Raymond Beach Ramp
E100: Sebago Lake | F100: Sebago Lake - Standish Boat Launch
E101: Sebago Lake | F101: Sebago Lake - State Park Sebago Lk
E102: Sheepscot Pond | F102: Sheepscot Pond - Rt 3 Fish & Game
...
